{
 "currentVersion": 10.91,
 "cimVersion": "2.9.0",
 "serviceDescription": "",
 "mapName": "contours",
 "description": "",
 "copyrightText": "",
 "supportsDynamicLayers": true,
 "layers": [
  {
   "id": 0,
   "name": "400 - 0",
   "parentLayerId": -1,
   "defaultVisibility": true,
   "subLayerIds": [
    1,
    2
   ],
   "minScale": 400,
   "maxScale": 0,
   "type": "Group Layer",
   "supportsDynamicLegends": false
  },
  {
   "id": 1,
   "name": "Contours_2ft",
   "parentLayerId": 0,
   "defaultVisibility": true,
   "subLayerIds": null,
   "minScale": 0,
   "maxScale": 0,
   "type": "Feature Layer",
   "geometryType": "esriGeometryPolyline",
   "supportsDynamicLegends": true
  },
  {
   "id": 2,
   "name": "Contours_10ft",
   "parentLayerId": 0,
   "defaultVisibility": true,
   "subLayerIds": null,
   "minScale": 0,
   "maxScale": 0,
   "type": "Feature Layer",
   "geometryType": "esriGeometryPolyline",
   "supportsDynamicLegends": true
  },
  {
   "id": 3,
   "name": "700 - 401",
   "parentLayerId": -1,
   "defaultVisibility": true,
   "subLayerIds": [
    4,
    5
   ],
   "minScale": 700,
   "maxScale": 401,
   "type": "Group Layer",
   "supportsDynamicLegends": false
  },
  {
   "id": 4,
   "name": "Contours_2ft",
   "parentLayerId": 3,
   "defaultVisibility": true,
   "subLayerIds": null,
   "minScale": 0,
   "maxScale": 0,
   "type": "Feature Layer",
   "geometryType": "esriGeometryPolyline",
   "supportsDynamicLegends": true
  },
  {
   "id": 5,
   "name": "Contours_10ft",
   "parentLayerId": 3,
   "defaultVisibility": true,
   "subLayerIds": null,
   "minScale": 0,
   "maxScale": 0,
   "type": "Feature Layer",
   "geometryType": "esriGeometryPolyline",
   "supportsDynamicLegends": true
  },
  {
   "id": 6,
   "name": "1200 - 701",
   "parentLayerId": -1,
   "defaultVisibility": true,
   "subLayerIds": [
    7,
    8
   ],
   "minScale": 1200,
   "maxScale": 701,
   "type": "Group Layer",
   "supportsDynamicLegends": false
  },
  {
   "id": 7,
   "name": "Contours_2ft",
   "parentLayerId": 6,
   "defaultVisibility": true,
   "subLayerIds": null,
   "minScale": 0,
   "maxScale": 0,
   "type": "Feature Layer",
   "geometryType": "esriGeometryPolyline",
   "supportsDynamicLegends": true
  },
  {
   "id": 8,
   "name": "Contours_10ft",
   "parentLayerId": 6,
   "defaultVisibility": true,
   "subLayerIds": null,
   "minScale": 0,
   "maxScale": 0,
   "type": "Feature Layer",
   "geometryType": "esriGeometryPolyline",
   "supportsDynamicLegends": true
  },
  {
   "id": 9,
   "name": "2400 - 1201",
   "parentLayerId": -1,
   "defaultVisibility": true,
   "subLayerIds": [
    10,
    11
   ],
   "minScale": 2400,
   "maxScale": 1201,
   "type": "Group Layer",
   "supportsDynamicLegends": false
  },
  {
   "id": 10,
   "name": "Contours_2ft",
   "parentLayerId": 9,
   "defaultVisibility": true,
   "subLayerIds": null,
   "minScale": 0,
   "maxScale": 0,
   "type": "Feature Layer",
   "geometryType": "esriGeometryPolyline",
   "supportsDynamicLegends": true
  },
  {
   "id": 11,
   "name": "Contours_10ft",
   "parentLayerId": 9,
   "defaultVisibility": true,
   "subLayerIds": null,
   "minScale": 0,
   "maxScale": 0,
   "type": "Feature Layer",
   "geometryType": "esriGeometryPolyline",
   "supportsDynamicLegends": true
  },
  {
   "id": 12,
   "name": "4800 - 2401",
   "parentLayerId": -1,
   "defaultVisibility": true,
   "subLayerIds": [
    13,
    14
   ],
   "minScale": 4800,
   "maxScale": 2401,
   "type": "Group Layer",
   "supportsDynamicLegends": false
  },
  {
   "id": 13,
   "name": "Contours_2ft",
   "parentLayerId": 12,
   "defaultVisibility": true,
   "subLayerIds": null,
   "minScale": 0,
   "maxScale": 0,
   "type": "Feature Layer",
   "geometryType": "esriGeometryPolyline",
   "supportsDynamicLegends": true
  },
  {
   "id": 14,
   "name": "Contours_10ft",
   "parentLayerId": 12,
   "defaultVisibility": true,
   "subLayerIds": null,
   "minScale": 0,
   "maxScale": 0,
   "type": "Feature Layer",
   "geometryType": "esriGeometryPolyline",
   "supportsDynamicLegends": true
  },
  {
   "id": 15,
   "name": "6K - 4801",
   "parentLayerId": -1,
   "defaultVisibility": true,
   "subLayerIds": [
    16,
    17
   ],
   "minScale": 6000,
   "maxScale": 4801,
   "type": "Group Layer",
   "supportsDynamicLegends": false
  },
  {
   "id": 16,
   "name": "Contours_2ft",
   "parentLayerId": 15,
   "defaultVisibility": true,
   "subLayerIds": null,
   "minScale": 0,
   "maxScale": 0,
   "type": "Feature Layer",
   "geometryType": "esriGeometryPolyline",
   "supportsDynamicLegends": true
  },
  {
   "id": 17,
   "name": "Contours_10ft",
   "parentLayerId": 15,
   "defaultVisibility": true,
   "subLayerIds": null,
   "minScale": 0,
   "maxScale": 0,
   "type": "Feature Layer",
   "geometryType": "esriGeometryPolyline",
   "supportsDynamicLegends": true
  },
  {
   "id": 18,
   "name": "12K - 6,001",
   "parentLayerId": -1,
   "defaultVisibility": true,
   "subLayerIds": [
    19,
    20
   ],
   "minScale": 12000,
   "maxScale": 6001,
   "type": "Group Layer",
   "supportsDynamicLegends": false
  },
  {
   "id": 19,
   "name": "Contours_2ft",
   "parentLayerId": 18,
   "defaultVisibility": false,
   "subLayerIds": null,
   "minScale": 0,
   "maxScale": 0,
   "type": "Feature Layer",
   "geometryType": "esriGeometryPolyline",
   "supportsDynamicLegends": true
  },
  {
   "id": 20,
   "name": "Contours_10ft",
   "parentLayerId": 18,
   "defaultVisibility": true,
   "subLayerIds": null,
   "minScale": 0,
   "maxScale": 0,
   "type": "Feature Layer",
   "geometryType": "esriGeometryPolyline",
   "supportsDynamicLegends": true
  },
  {
   "id": 21,
   "name": "38K - 12,001",
   "parentLayerId": -1,
   "defaultVisibility": true,
   "subLayerIds": [
    22,
    23
   ],
   "minScale": 38000,
   "maxScale": 12001,
   "type": "Group Layer",
   "supportsDynamicLegends": false
  },
  {
   "id": 22,
   "name": "Contours_2ft",
   "parentLayerId": 21,
   "defaultVisibility": false,
   "subLayerIds": null,
   "minScale": 0,
   "maxScale": 0,
   "type": "Feature Layer",
   "geometryType": "esriGeometryPolyline",
   "supportsDynamicLegends": true
  },
  {
   "id": 23,
   "name": "Contours_10ft",
   "parentLayerId": 21,
   "defaultVisibility": true,
   "subLayerIds": null,
   "minScale": 0,
   "maxScale": 0,
   "type": "Feature Layer",
   "geometryType": "esriGeometryPolyline",
   "supportsDynamicLegends": true
  }
 ],
 "tables": [],
 "spatialReference": {
  "wkid": 102100,
  "latestWkid": 3857,
  "xyTolerance": 0.001,
  "zTolerance": 0.001,
  "mTolerance": 0.001,
  "falseX": -20037700,
  "falseY": -30241100,
  "xyUnits": 1.4892314192838538E8,
  "falseZ": -100000,
  "zUnits": 10000,
  "falseM": -100000,
  "mUnits": 10000
 },
 "singleFusedMapCache": true,
 "tileInfo": {
  "rows": 256,
  "cols": 256,
  "dpi": 96,
  "format": "PNG",
  "compressionQuality": 0,
  "origin": {
   "x": -2.0037508342787E7,
   "y": 2.0037508342787E7
  },
  "spatialReference": {
   "wkid": 102100,
   "latestWkid": 3857,
   "xyTolerance": 0.001,
   "zTolerance": 0.001,
   "mTolerance": 0.001,
   "falseX": -20037700,
   "falseY": -30241100,
   "xyUnits": 1.4892314192838538E8,
   "falseZ": -100000,
   "zUnits": 10000,
   "falseM": -100000,
   "mUnits": 10000
  },
  "lods": [
   {
    "level": 0,
    "resolution": 4.77731426794937,
    "scale": 18055.954822
   },
   {
    "level": 1,
    "resolution": 2.388657133974685,
    "scale": 9027.977411
   },
   {
    "level": 2,
    "resolution": 1.1943285668550503,
    "scale": 4513.988705
   },
   {
    "level": 3,
    "resolution": 0.5971642835598172,
    "scale": 2256.994353
   },
   {
    "level": 4,
    "resolution": 0.29858214164761665,
    "scale": 1128.497176
   },
   {
    "level": 5,
    "resolution": 0.158750317500635,
    "scale": 600
   },
   {
    "level": 6,
    "resolution": 0.06350012700025401,
    "scale": 240
   }
  ]
 },
 "storageInfo": {
  "storageFormat": "esriMapCacheStorageModeCompactV2",
  "packetSize": 128
 },
 "initialExtent": {
  "xmin": -1.0760933242182603E7,
  "ymin": 3869929.0768020716,
  "xmax": -1.0759076080878897E7,
  "ymax": 3871484.1796989213,
  "spatialReference": {
   "cs": "pcs",
   "wkid": 102100
  }
 },
 "fullExtent": {
  "xmin": -1.0764122325763805E7,
  "ymin": 3848049.066507021,
  "xmax": -1.0734881718725542E7,
  "ymax": 3876381.403923611,
  "spatialReference": {
   "cs": "pcs",
   "wkid": 102100
  }
 },
 "datesInUnknownTimezone": false,
 "minScale": 18055.954822,
 "maxScale": 240,
 "minLOD": 0,
 "maxLOD": 6,
 "units": "esriMeters",
 "supportedImageFormatTypes": "PNG32,PNG24,PNG,JPG,DIB,TIFF,EMF,PS,PDF,GIF,SVG,SVGZ,BMP",
 "documentInfo": {
  "Title": "Untitled.aprx",
  "Author": "",
  "Comments": "",
  "Subject": "",
  "Category": "",
  "AntialiasingMode": "None",
  "TextAntialiasingMode": "Force",
  "Version": "2.9.0",
  "Keywords": "contours,MapServer"
 },
 "supportsQueryDomains": true,
 "capabilities": "Map,Query,Data",
 "supportedQueryFormats": "JSON, geoJSON, PBF",
 "hasVersionedData": true,
 "exportTilesAllowed": false,
 "referenceScale": 0.0,
 "datumTransformations": [
  {
   "geoTransforms": [
    {
     "wkid": 108001,
     "latestWkid": 1241,
     "transformForward": true,
     "name": "NAD_1927_To_NAD_1983_NADCON"
    }
   ]
  },
  {
   "geoTransforms": [
    {
     "wkid": 108001,
     "latestWkid": 1241,
     "transformForward": false,
     "name": "NAD_1927_To_NAD_1983_NADCON"
    }
   ]
  }
 ],
 "supportsDatumTransformation": true,
 "archivingInfo": {
  "supportsHistoricMoment": false
 },
 "supportsClipping": true,
 "supportsSpatialFilter": true,
 "supportsTimeRelation": true,
 "supportsQueryDataElements": true,
 "maxRecordCount": 2000,
 "maxImageHeight": 4096,
 "maxImageWidth": 4096,
 "supportedExtensions": "",
 "serviceItemId": "0f939628daa14284aad39375b01b2744"
}
