{
 "currentVersion": 10.91,
 "cimVersion": "2.9.0",
 "serviceDescription": "",
 "mapName": "Mesquite Basemap",
 "description": "",
 "copyrightText": "",
 "supportsDynamicLayers": true,
 "layers": [
  {
   "id": 1,
   "name": "500-0",
   "parentLayerId": -1,
   "defaultVisibility": true,
   "subLayerIds": [
    2,
    3,
    4,
    6,
    7,
    8,
    9,
    10,
    11,
    446,
    20,
    21,
    22,
    23,
    24
   ],
   "minScale": 500,
   "maxScale": 0,
   "type": "Group Layer",
   "supportsDynamicLegends": false
  },
  {
   "id": 11,
   "name": "Hydrology",
   "parentLayerId": 1,
   "defaultVisibility": true,
   "subLayerIds": [
    12,
    13,
    16
   ],
   "minScale": 0,
   "maxScale": 0,
   "type": "Group Layer",
   "supportsDynamicLegends": false
  },
  {
   "id": 13,
   "name": "Dallas County",
   "parentLayerId": 11,
   "defaultVisibility": true,
   "subLayerIds": [
    14,
    15
   ],
   "minScale": 0,
   "maxScale": 0,
   "type": "Group Layer",
   "supportsDynamicLegends": false
  },
  {
   "id": 16,
   "name": "Kaufman County",
   "parentLayerId": 11,
   "defaultVisibility": true,
   "subLayerIds": [
    17,
    18
   ],
   "minScale": 0,
   "maxScale": 0,
   "type": "Group Layer",
   "supportsDynamicLegends": false
  },
  {
   "id": 25,
   "name": "700-501",
   "parentLayerId": -1,
   "defaultVisibility": true,
   "subLayerIds": [
    26,
    27,
    28,
    30,
    31,
    32,
    33,
    34,
    35,
    445,
    44,
    45,
    46,
    47,
    48
   ],
   "minScale": 700,
   "maxScale": 501,
   "type": "Group Layer",
   "supportsDynamicLegends": false
  },
  {
   "id": 35,
   "name": "Hydrology",
   "parentLayerId": 25,
   "defaultVisibility": true,
   "subLayerIds": [
    36,
    37,
    40
   ],
   "minScale": 0,
   "maxScale": 0,
   "type": "Group Layer",
   "supportsDynamicLegends": false
  },
  {
   "id": 37,
   "name": "Dallas County",
   "parentLayerId": 35,
   "defaultVisibility": true,
   "subLayerIds": [
    38,
    39
   ],
   "minScale": 0,
   "maxScale": 0,
   "type": "Group Layer",
   "supportsDynamicLegends": false
  },
  {
   "id": 40,
   "name": "Kaufman County",
   "parentLayerId": 35,
   "defaultVisibility": true,
   "subLayerIds": [
    41,
    42
   ],
   "minScale": 0,
   "maxScale": 0,
   "type": "Group Layer",
   "supportsDynamicLegends": false
  },
  {
   "id": 49,
   "name": "1,300-701",
   "parentLayerId": -1,
   "defaultVisibility": true,
   "subLayerIds": [
    50,
    51,
    52,
    54,
    56,
    57,
    58,
    59,
    60,
    61,
    444,
    70,
    71,
    72,
    73,
    74
   ],
   "minScale": 1300,
   "maxScale": 701,
   "type": "Group Layer",
   "supportsDynamicLegends": false
  },
  {
   "id": 61,
   "name": "Hydrology",
   "parentLayerId": 49,
   "defaultVisibility": true,
   "subLayerIds": [
    62,
    63,
    66
   ],
   "minScale": 0,
   "maxScale": 0,
   "type": "Group Layer",
   "supportsDynamicLegends": false
  },
  {
   "id": 63,
   "name": "Dallas County",
   "parentLayerId": 61,
   "defaultVisibility": true,
   "subLayerIds": [
    64,
    65
   ],
   "minScale": 0,
   "maxScale": 0,
   "type": "Group Layer",
   "supportsDynamicLegends": false
  },
  {
   "id": 66,
   "name": "Kaufman County",
   "parentLayerId": 61,
   "defaultVisibility": true,
   "subLayerIds": [
    67,
    68
   ],
   "minScale": 0,
   "maxScale": 0,
   "type": "Group Layer",
   "supportsDynamicLegends": false
  },
  {
   "id": 75,
   "name": "2,500-1,301",
   "parentLayerId": -1,
   "defaultVisibility": true,
   "subLayerIds": [
    76,
    77,
    78,
    80,
    82,
    83,
    84,
    85,
    86,
    87,
    443,
    96,
    97,
    98,
    99,
    100
   ],
   "minScale": 2500,
   "maxScale": 1301,
   "type": "Group Layer",
   "supportsDynamicLegends": false
  },
  {
   "id": 87,
   "name": "Hydrology",
   "parentLayerId": 75,
   "defaultVisibility": true,
   "subLayerIds": [
    88,
    89,
    92
   ],
   "minScale": 0,
   "maxScale": 0,
   "type": "Group Layer",
   "supportsDynamicLegends": false
  },
  {
   "id": 89,
   "name": "Dallas County",
   "parentLayerId": 87,
   "defaultVisibility": true,
   "subLayerIds": [
    90,
    91
   ],
   "minScale": 0,
   "maxScale": 0,
   "type": "Group Layer",
   "supportsDynamicLegends": false
  },
  {
   "id": 92,
   "name": "Kaufman County",
   "parentLayerId": 87,
   "defaultVisibility": true,
   "subLayerIds": [
    93,
    94
   ],
   "minScale": 0,
   "maxScale": 0,
   "type": "Group Layer",
   "supportsDynamicLegends": false
  },
  {
   "id": 101,
   "name": "5000-2,501",
   "parentLayerId": -1,
   "defaultVisibility": true,
   "subLayerIds": [
    102,
    103,
    105,
    106,
    108,
    110,
    112,
    113,
    114,
    115,
    116,
    117,
    118,
    442,
    127,
    128,
    129,
    130,
    131,
    132
   ],
   "minScale": 5000,
   "maxScale": 2501,
   "type": "Group Layer",
   "supportsDynamicLegends": false
  },
  {
   "id": 118,
   "name": "Hydrology",
   "parentLayerId": 101,
   "defaultVisibility": true,
   "subLayerIds": [
    119,
    120,
    123
   ],
   "minScale": 0,
   "maxScale": 0,
   "type": "Group Layer",
   "supportsDynamicLegends": false
  },
  {
   "id": 120,
   "name": "Dallas County",
   "parentLayerId": 118,
   "defaultVisibility": true,
   "subLayerIds": [
    121,
    122
   ],
   "minScale": 0,
   "maxScale": 0,
   "type": "Group Layer",
   "supportsDynamicLegends": false
  },
  {
   "id": 123,
   "name": "Kaufman County",
   "parentLayerId": 118,
   "defaultVisibility": true,
   "subLayerIds": [
    124,
    125
   ],
   "minScale": 0,
   "maxScale": 0,
   "type": "Group Layer",
   "supportsDynamicLegends": false
  },
  {
   "id": 133,
   "name": "7K - 5001",
   "parentLayerId": -1,
   "defaultVisibility": true,
   "subLayerIds": [
    134,
    136,
    137,
    138,
    140,
    141,
    143,
    145,
    146,
    147,
    148,
    149,
    150,
    151,
    152,
    153,
    441,
    162,
    163,
    164,
    165,
    166,
    167,
    168
   ],
   "minScale": 7000,
   "maxScale": 5001,
   "type": "Group Layer",
   "supportsDynamicLegends": false
  },
  {
   "id": 153,
   "name": "Hydrology",
   "parentLayerId": 133,
   "defaultVisibility": true,
   "subLayerIds": [
    154,
    155,
    158
   ],
   "minScale": 0,
   "maxScale": 0,
   "type": "Group Layer",
   "supportsDynamicLegends": false
  },
  {
   "id": 155,
   "name": "Dallas County",
   "parentLayerId": 153,
   "defaultVisibility": true,
   "subLayerIds": [
    156,
    157
   ],
   "minScale": 0,
   "maxScale": 0,
   "type": "Group Layer",
   "supportsDynamicLegends": false
  },
  {
   "id": 158,
   "name": "Kaufman County",
   "parentLayerId": 153,
   "defaultVisibility": true,
   "subLayerIds": [
    159,
    160
   ],
   "minScale": 0,
   "maxScale": 0,
   "type": "Group Layer",
   "supportsDynamicLegends": false
  },
  {
   "id": 169,
   "name": "10,000-7,001",
   "parentLayerId": -1,
   "defaultVisibility": true,
   "subLayerIds": [
    170,
    172,
    174,
    175,
    176,
    178,
    180,
    181,
    183,
    184,
    185,
    186,
    187,
    188,
    189,
    190,
    191,
    440,
    200,
    201,
    202,
    203,
    204,
    205,
    206
   ],
   "minScale": 10000,
   "maxScale": 7001,
   "type": "Group Layer",
   "supportsDynamicLegends": false
  },
  {
   "id": 191,
   "name": "Hydrology",
   "parentLayerId": 169,
   "defaultVisibility": true,
   "subLayerIds": [
    192,
    193,
    196
   ],
   "minScale": 0,
   "maxScale": 0,
   "type": "Group Layer",
   "supportsDynamicLegends": false
  },
  {
   "id": 193,
   "name": "Dallas County",
   "parentLayerId": 191,
   "defaultVisibility": true,
   "subLayerIds": [
    194,
    195
   ],
   "minScale": 0,
   "maxScale": 0,
   "type": "Group Layer",
   "supportsDynamicLegends": false
  },
  {
   "id": 196,
   "name": "Kaufman County",
   "parentLayerId": 191,
   "defaultVisibility": true,
   "subLayerIds": [
    197,
    198
   ],
   "minScale": 0,
   "maxScale": 0,
   "type": "Group Layer",
   "supportsDynamicLegends": false
  },
  {
   "id": 207,
   "name": "13K-10,001",
   "parentLayerId": -1,
   "defaultVisibility": true,
   "subLayerIds": [
    208,
    210,
    211,
    212,
    214,
    216,
    217,
    219,
    220,
    221,
    222,
    223,
    224,
    225,
    226,
    439,
    235,
    236,
    237,
    238,
    239,
    240,
    241
   ],
   "minScale": 13000,
   "maxScale": 10001,
   "type": "Group Layer",
   "supportsDynamicLegends": false
  },
  {
   "id": 226,
   "name": "Hydrology",
   "parentLayerId": 207,
   "defaultVisibility": true,
   "subLayerIds": [
    227,
    228,
    231
   ],
   "minScale": 0,
   "maxScale": 0,
   "type": "Group Layer",
   "supportsDynamicLegends": false
  },
  {
   "id": 228,
   "name": "Dallas County",
   "parentLayerId": 226,
   "defaultVisibility": true,
   "subLayerIds": [
    229,
    230
   ],
   "minScale": 0,
   "maxScale": 0,
   "type": "Group Layer",
   "supportsDynamicLegends": false
  },
  {
   "id": 231,
   "name": "Kaufman County",
   "parentLayerId": 226,
   "defaultVisibility": true,
   "subLayerIds": [
    232,
    233
   ],
   "minScale": 0,
   "maxScale": 0,
   "type": "Group Layer",
   "supportsDynamicLegends": false
  },
  {
   "id": 242,
   "name": "25K-13,001",
   "parentLayerId": -1,
   "defaultVisibility": true,
   "subLayerIds": [
    243,
    245,
    247,
    248,
    250,
    252,
    254,
    255,
    256,
    257,
    258,
    259,
    260,
    261,
    438,
    270,
    271,
    272,
    273,
    274,
    275,
    276
   ],
   "minScale": 25000,
   "maxScale": 13001,
   "type": "Group Layer",
   "supportsDynamicLegends": false
  },
  {
   "id": 261,
   "name": "Hydrology",
   "parentLayerId": 242,
   "defaultVisibility": true,
   "subLayerIds": [
    262,
    263,
    266
   ],
   "minScale": 0,
   "maxScale": 0,
   "type": "Group Layer",
   "supportsDynamicLegends": false
  },
  {
   "id": 263,
   "name": "Dallas County",
   "parentLayerId": 261,
   "defaultVisibility": true,
   "subLayerIds": [
    264,
    265
   ],
   "minScale": 0,
   "maxScale": 0,
   "type": "Group Layer",
   "supportsDynamicLegends": false
  },
  {
   "id": 266,
   "name": "Kaufman County",
   "parentLayerId": 261,
   "defaultVisibility": true,
   "subLayerIds": [
    267,
    268
   ],
   "minScale": 0,
   "maxScale": 0,
   "type": "Group Layer",
   "supportsDynamicLegends": false
  },
  {
   "id": 277,
   "name": "36,200-25,001",
   "parentLayerId": -1,
   "defaultVisibility": true,
   "subLayerIds": [
    278,
    280,
    282,
    283,
    284,
    286,
    288,
    290,
    292,
    293,
    294,
    295,
    296,
    297,
    298,
    299,
    371,
    308,
    309,
    310,
    311,
    312,
    313,
    314
   ],
   "minScale": 36200,
   "maxScale": 25001,
   "type": "Group Layer",
   "supportsDynamicLegends": false
  },
  {
   "id": 299,
   "name": "Hydrology",
   "parentLayerId": 277,
   "defaultVisibility": true,
   "subLayerIds": [
    300,
    301,
    304
   ],
   "minScale": 0,
   "maxScale": 0,
   "type": "Group Layer",
   "supportsDynamicLegends": false
  },
  {
   "id": 301,
   "name": "Dallas County",
   "parentLayerId": 299,
   "defaultVisibility": true,
   "subLayerIds": [
    302,
    303
   ],
   "minScale": 0,
   "maxScale": 0,
   "type": "Group Layer",
   "supportsDynamicLegends": false
  },
  {
   "id": 304,
   "name": "Kaufman County",
   "parentLayerId": 299,
   "defaultVisibility": true,
   "subLayerIds": [
    305,
    306
   ],
   "minScale": 0,
   "maxScale": 0,
   "type": "Group Layer",
   "supportsDynamicLegends": false
  },
  {
   "id": 315,
   "name": "72,300-36,201",
   "parentLayerId": -1,
   "defaultVisibility": true,
   "subLayerIds": [
    316,
    318,
    320,
    322,
    324,
    325,
    326,
    327,
    328,
    329,
    330,
    331,
    332,
    900,
    990,
    992,
    995,
    998,
    345,
    346
   ],
   "minScale": 72300,
   "maxScale": 36201,
   "type": "Group Layer",
   "supportsDynamicLegends": false
  },
  {
   "id": 332,
   "name": "Hydrology",
   "parentLayerId": 315,
   "defaultVisibility": true,
   "subLayerIds": [
    333,
    334,
    337
   ],
   "minScale": 0,
   "maxScale": 0,
   "type": "Group Layer",
   "supportsDynamicLegends": false
  },
  {
   "id": 334,
   "name": "Dallas County",
   "parentLayerId": 332,
   "defaultVisibility": true,
   "subLayerIds": [
    335,
    336
   ],
   "minScale": 0,
   "maxScale": 0,
   "type": "Group Layer",
   "supportsDynamicLegends": false
  },
  {
   "id": 337,
   "name": "Kaufman County",
   "parentLayerId": 332,
   "defaultVisibility": true,
   "subLayerIds": [
    338,
    339
   ],
   "minScale": 0,
   "maxScale": 0,
   "type": "Group Layer",
   "supportsDynamicLegends": false
  },
  {
   "id": 347,
   "name": "144,500-72,301",
   "parentLayerId": -1,
   "defaultVisibility": true,
   "subLayerIds": [
    348,
    350,
    352,
    354,
    355,
    356,
    357,
    358,
    359,
    360,
    361,
    362,
    370,
    993,
    372,
    373,
    374,
    375,
    376,
    377
   ],
   "minScale": 144500,
   "maxScale": 72301,
   "type": "Group Layer",
   "supportsDynamicLegends": false
  },
  {
   "id": 362,
   "name": "Hydrology",
   "parentLayerId": 347,
   "defaultVisibility": true,
   "subLayerIds": [
    363,
    364,
    367
   ],
   "minScale": 0,
   "maxScale": 0,
   "type": "Group Layer",
   "supportsDynamicLegends": false
  },
  {
   "id": 364,
   "name": "Dallas County",
   "parentLayerId": 362,
   "defaultVisibility": true,
   "subLayerIds": [
    365,
    366
   ],
   "minScale": 0,
   "maxScale": 0,
   "type": "Group Layer",
   "supportsDynamicLegends": false
  },
  {
   "id": 367,
   "name": "Kaufman County",
   "parentLayerId": 362,
   "defaultVisibility": true,
   "subLayerIds": [
    368,
    369
   ],
   "minScale": 0,
   "maxScale": 0,
   "type": "Group Layer",
   "supportsDynamicLegends": false
  },
  {
   "id": 378,
   "name": "290,000-144,501",
   "parentLayerId": -1,
   "defaultVisibility": true,
   "subLayerIds": [
    379,
    381,
    383,
    385,
    386,
    387,
    388,
    389,
    390,
    391,
    392,
    400,
    997,
    402,
    403,
    404,
    405,
    406,
    407
   ],
   "minScale": 290000,
   "maxScale": 144501,
   "type": "Group Layer",
   "supportsDynamicLegends": false
  },
  {
   "id": 392,
   "name": "Hydrology",
   "parentLayerId": 378,
   "defaultVisibility": true,
   "subLayerIds": [
    393,
    394,
    397
   ],
   "minScale": 0,
   "maxScale": 0,
   "type": "Group Layer",
   "supportsDynamicLegends": false
  },
  {
   "id": 394,
   "name": "Dallas County",
   "parentLayerId": 392,
   "defaultVisibility": true,
   "subLayerIds": [
    395,
    396
   ],
   "minScale": 0,
   "maxScale": 0,
   "type": "Group Layer",
   "supportsDynamicLegends": false
  },
  {
   "id": 397,
   "name": "Kaufman County",
   "parentLayerId": 392,
   "defaultVisibility": true,
   "subLayerIds": [
    398,
    399
   ],
   "minScale": 0,
   "maxScale": 0,
   "type": "Group Layer",
   "supportsDynamicLegends": false
  },
  {
   "id": 408,
   "name": "1,000,000 - 290,001",
   "parentLayerId": -1,
   "defaultVisibility": true,
   "subLayerIds": [
    409,
    411,
    413,
    415,
    416,
    417,
    418,
    419,
    420,
    421,
    422,
    423,
    999,
    432,
    433,
    434,
    435,
    436
   ],
   "minScale": 1000000,
   "maxScale": 290001,
   "type": "Group Layer",
   "supportsDynamicLegends": false
  },
  {
   "id": 423,
   "name": "Hydrology",
   "parentLayerId": 408,
   "defaultVisibility": true,
   "subLayerIds": [
    424,
    425,
    428
   ],
   "minScale": 0,
   "maxScale": 0,
   "type": "Group Layer",
   "supportsDynamicLegends": false
  },
  {
   "id": 425,
   "name": "Dallas County",
   "parentLayerId": 423,
   "defaultVisibility": true,
   "subLayerIds": [
    426,
    427
   ],
   "minScale": 0,
   "maxScale": 0,
   "type": "Group Layer",
   "supportsDynamicLegends": false
  },
  {
   "id": 428,
   "name": "Kaufman County",
   "parentLayerId": 423,
   "defaultVisibility": true,
   "subLayerIds": [
    429,
    430
   ],
   "minScale": 0,
   "maxScale": 0,
   "type": "Group Layer",
   "supportsDynamicLegends": false
  }
 ],
 "tables": [],
 "spatialReference": {
  "wkid": 102100,
  "latestWkid": 3857,
  "xyTolerance": 0.001,
  "zTolerance": 0.001,
  "mTolerance": 0.001,
  "falseX": -20037700,
  "falseY": -30241100,
  "xyUnits": 10000,
  "falseZ": -100000,
  "zUnits": 10000,
  "falseM": -100000,
  "mUnits": 10000
 },
 "singleFusedMapCache": true,
 "tileInfo": {
  "rows": 256,
  "cols": 256,
  "dpi": 96,
  "format": "PNG",
  "compressionQuality": 0,
  "origin": {
   "x": -2.0037508342787E7,
   "y": 2.0037508342787E7
  },
  "spatialReference": {
   "wkid": 102100,
   "latestWkid": 3857,
   "xyTolerance": 0.001,
   "zTolerance": 0.001,
   "mTolerance": 0.001,
   "falseX": -20037700,
   "falseY": -30241100,
   "xyUnits": 1.4892314192838538E8,
   "falseZ": -100000,
   "zUnits": 10000,
   "falseM": -100000,
   "mUnits": 10000
  },
  "lods": [
   {
    "level": 0,
    "resolution": 76.43702828507324,
    "scale": 288895.277144
   },
   {
    "level": 1,
    "resolution": 38.21851414253662,
    "scale": 144447.638572
   },
   {
    "level": 2,
    "resolution": 19.10925707126831,
    "scale": 72223.819286
   },
   {
    "level": 3,
    "resolution": 9.554628535634155,
    "scale": 36111.909643
   },
   {
    "level": 4,
    "resolution": 4.77731426794937,
    "scale": 18055.954822
   },
   {
    "level": 5,
    "resolution": 2.388657133974685,
    "scale": 9027.977411
   },
   {
    "level": 6,
    "resolution": 1.1943285668550503,
    "scale": 4513.988705
   },
   {
    "level": 7,
    "resolution": 0.5971642835598172,
    "scale": 2256.994353
   },
   {
    "level": 8,
    "resolution": 0.29858214164761665,
    "scale": 1128.497176
   },
   {
    "level": 9,
    "resolution": 0.158750317500635,
    "scale": 600
   },
   {
    "level": 10,
    "resolution": 0.06350012700025401,
    "scale": 240
   }
  ]
 },
 "storageInfo": {
  "storageFormat": "esriMapCacheStorageModeCompactV2",
  "packetSize": 128
 },
 "initialExtent": {
  "xmin": -1.0763272142012183E7,
  "ymin": 3847003.8294367464,
  "xmax": -1.0725775562587526E7,
  "ymax": 3882928.466370185,
  "spatialReference": {
   "wkid": 102100,
   "latestWkid": 3857,
   "xyTolerance": 0.001,
   "zTolerance": 0.001,
   "mTolerance": 0.001,
   "falseX": -20037700,
   "falseY": -30241100,
   "xyUnits": 10000,
   "falseZ": -100000,
   "zUnits": 10000,
   "falseM": -100000,
   "mUnits": 10000
  }
 },
 "fullExtent": {
  "xmin": -1.0802746162241846E7,
  "ymin": 3809058.0680371453,
  "xmax": -1.0669933903924454E7,
  "ymax": 3952378.3894784274,
  "spatialReference": {
   "wkid": 102100,
   "latestWkid": 3857,
   "xyTolerance": 0.001,
   "zTolerance": 0.001,
   "mTolerance": 0.001,
   "falseX": -20037700,
   "falseY": -30241100,
   "xyUnits": 10000,
   "falseZ": -100000,
   "zUnits": 10000,
   "falseM": -100000,
   "mUnits": 10000
  }
 },
 "datesInUnknownTimezone": false,
 "minScale": 288895.277144,
 "maxScale": 240,
 "units": "esriMeters",
 "supportedImageFormatTypes": "PNG32,PNG24,PNG,JPG,DIB,TIFF,EMF,PS,PDF,GIF,SVG,SVGZ,BMP",
 "documentInfo": {
  "Title": "Untitled.aprx",
  "Author": "",
  "Comments": "",
  "Subject": "",
  "Category": "",
  "AntialiasingMode": "None",
  "TextAntialiasingMode": "Force",
  "Version": "2.9.0",
  "Keywords": "basemap,MapServer"
 },
 "supportsQueryDomains": true,
 "capabilities": "Query,Map,Data",
 "supportedQueryFormats": "JSON, geoJSON, PBF",
 "exportTilesAllowed": false,
 "referenceScale": 0.0,
 "datumTransformations": [
  {
   "geoTransforms": [
    {
     "wkid": 108001,
     "latestWkid": 1241,
     "transformForward": true,
     "name": "NAD_1927_To_NAD_1983_NADCON"
    }
   ]
  },
  {
   "geoTransforms": [
    {
     "wkid": 108001,
     "latestWkid": 1241,
     "transformForward": false,
     "name": "NAD_1927_To_NAD_1983_NADCON"
    }
   ]
  },
  {
   "geoTransforms": [
    {
     "wkid": 108190,
     "latestWkid": 108190,
     "transformForward": false,
     "name": "WGS_1984_(ITRF00)_To_NAD_1983"
    }
   ]
  },
  {
   "geoTransforms": [
    {
     "wkid": 108190,
     "latestWkid": 108190,
     "transformForward": true,
     "name": "WGS_1984_(ITRF00)_To_NAD_1983"
    }
   ]
  }
 ],
 "supportsDatumTransformation": true,
 "floorAwareMapProperties": {
  "defaultFloorFilterSettings": {
   "isEnabled": false
  }
 },
 "archivingInfo": {
  "supportsHistoricMoment": false
 },
 "supportsClipping": true,
 "supportsSpatialFilter": true,
 "supportsTimeRelation": true,
 "supportsQueryDataElements": true,
 "maxRecordCount": 2000,
 "maxImageHeight": 4096,
 "maxImageWidth": 4096,
 "supportedExtensions": "",
 "serviceItemId": "5e90fd14c50049cead046c7272441c51"
}
